BEGIN:VCALENDAR
VERSION:2.0
PRODID:-//wp-events-plugin.com//7.2.3//EN
TZID:Europe/Brussels
X-WR-TIMEZONE:Europe/Brussels
BEGIN:VEVENT
UID:1@tdobrugge.com
DTSTART;TZID=Europe/Brussels:20240128T100000
DTEND;TZID=Europe/Brussels:20240128T150000
DTSTAMP:20240401T125552Z
URL:https://tdobrugge.com/events/infodag-tdo/
SUMMARY:Infodag TDO
DESCRIPTION:Kom kennismaken met onze werking op 28 januari ´24. Inschrijve
 n kan op de kennismakingsdag.\n\n\n 	Arabische lessen voor kinderen vanaf 
 5j tem 12j\n 	⁠Inschrijving kan van 10u tot 12u en 14u tot 15u\n 	⁠Bep
 erkt aantal Maximaal 15 leerlingen per klas\n 	⁠Verschillende niveaus\n\
 n
END:VEVENT
BEGIN:VEVENT
UID:2@tdobrugge.com
DTSTART;TZID=Europe/Brussels;VALUE=DATE:20240203
DTEND;TZID=Europe/Brussels;VALUE=DATE:20240204
DTSTAMP:20240401T130316Z
URL:https://tdobrugge.com/events/2024-eerste-schooldag/
SUMMARY:2024 Eerste Schooldag
DESCRIPTION:\n\n\n\nOp 3 februari 2024 opende onze non-profitorganisatie vo
 l trots haar deuren voor jonge leerlingen in Brugge\, met als missie het a
 anbieden van lessen over Arabische en islamitische culturen. De eerste sch
 ooldag bracht opwinding en verwelkomde kinderen in kleurrijke klaslokalen\
 , waar een zorgvuldig samengesteld curriculum een rijke verkenning bood va
 n taal\, Kuran en culturele waarden. De levendige deelname van de leerling
 en getuigde van de positieve impact van ons holistische onderwijsmodel\, d
 at niet alleen cognitieve groei bevordert\, maar ook een gevoel van identi
 teit en verbondenheid koestert. Als pioniers op het gebied van culturele w
 aardering en inclusie\, belooft TDO een gemeenschap te vormen waar diversi
 teit wordt gevierd en eenheid wordt omarmd\, en zet het de toon voor een t
 oekomstige generatie in Brugge.\n\n\n\n\n\n\n\n
END:VEVENT
BEGIN:VEVENT
UID:3@tdobrugge.com
DTSTART;TZID=Europe/Brussels:20240413T130000
DTEND;TZID=Europe/Brussels:20240413T190000
DTSTAMP:20240401T135423Z
URL:https://tdobrugge.com/events/eid-al-fitr/
SUMMARY:Eid Al-Fitr
DESCRIPTION:\nAsalamoe alykoem\,\n\n\nWe vragen de Almachtige Allah om deze
  gezegende maand af te sluiten met goede daden voor ons.\n\n\nMet de nader
 ende gelegenheid van Eid al-Fitr besloot de Vredesvereniging van Broeder R
 ashid\, in samenwerking met de Riyadh al-Saliheen Associatie (TDO) van Bro
 eder Said\, deze feestdag nieuw leven in te blazen en te herdenken in een 
 sfeer van broederschap en solidariteit onder de bewoners van de stad Brugg
 e en omstreken op zaterdag 13 april van 14.00 uur tot 19.00 uur in de zaal
  waar het vrijdaggebed wordt gehouden.\n\n\nDe hal bestaat\, zoals iederee
 n weet\, uit twee verdiepingen en twee aparte ingangen. Insha Allah\, word
 t de bovenverdieping gebruikt voor vrouwen en de benedenverdieping voor ma
 nnen.\n\n\nVragen we onze dierbare broeders\, wie dan ook\, om traditionee
 l gebak mee te brengen\, zodat we van elkaar kunnen leren en de diversitei
 t van onze culturen kunnen vieren.\n\n\nAllah zegene u en welkom iedereen.
 \nDe uitnodiging staat open voor iedereen die deze Eid met ons mee wilt vi
 eren.\n\n\nBedankt!\n\n\n\nالسلام عليكم ورحمة الله،\n
 نسأل الله تعالى ان يختم لنا هذا الشهر الم
 بارك بالصالحات.\nمع اقتراب مناسبة عيد الف
 طر، قررت جمعية السلام للأخ رشيد بتعاون م
 ع جمعية رياض الصالحين TDO للأخ سعيد تنشيط 
 و إحياء هذا العيد في جو من الأخوة و التضا
 من بين سكان مدينة بروج و ضواحيها و ذلك يو
 م السبت 13 أبريل ابتداءً من الساعة 14:00 إلى 
 غاية الساعة 19:00 في القاعة التي تقام فيها 
 صلاة الجمعة.\nالقاعة كما يعلم الجميع مكون
 ة من طابقين و مدخلين منفصلين، سيتم ان شاء
  الله استخدام الطابق العلوي للنساء و الس
 فلي للرجال.\nفضلا و ليس امراً نطلب من الأخ
 وة الكرام من كان في استطاعته إحضار بعض ال
 حلويات الخاصة بالعيد ليتسنى لنا التعرف ع
 لى مختلف التقافات و العادات.\nبارك الله ف
 يكم و مرحبا بالجميع.\nالدعوة مفتوحة لكل م
 ن احب ان يشارك معنا هذا العيد، و شكرا\n\n
END:VEVENT
BEGIN:VEVENT
UID:4@tdobrugge.com
DTSTART;TZID=Europe/Brussels:20240518T140000
DTEND;TZID=Europe/Brussels:20240518T170000
DTSTAMP:20240517T111335Z
URL:https://tdobrugge.com/events/voetbal/
SUMMARY:VOETBALDAG
DESCRIPTION:KOM EENS VOETBALLEN - U8 tot U13 - Inschrijving voor 30 april\,
  plaatsen zijn beperkt\n\nZorg voor :\n\n 	Regenjas en sportieve kledij\n 
 	Koekje en drankje\n\nTot dan!\n\n
LOCATION:Sporthal Koude keuken\, Zandstraat 272\, Sint-Andries\, West vlaan
 deren\, 8200\, België
X-APPLE-STRUCTURED-LOCATION;VALUE=URI;X-ADDRESS=Zandstraat 272\, Sint-Andri
 es\, West vlaanderen\, 8200\, België;X-APPLE-RADIUS=100;X-TITLE=Sporthal 
 Koude keuken:geo:0,0
END:VEVENT
BEGIN:VEVENT
UID:5@tdobrugge.com
DTSTART;TZID=Europe/Brussels:20240602T090000
DTEND;TZID=Europe/Brussels:20240602T130000
DTSTAMP:20240517T111252Z
URL:https://tdobrugge.com/events/opendeurdag-schooljaar-2024-2025/
SUMMARY:OPENDEURDAG - SCHOOLJAAR 2024 - 2025
DESCRIPTION:Programma :\n\n 	9u-10u Verwelkom &amp\; rondleiding\n 	10u-11u
  Presentatie\n 	11u-13u Inschrijvingen\n\n \n\n&nbsp\;
LOCATION:OLVA - Onze-Lieve-Vrouwecollege\, Collegestraat 24\, Brugge\, 8310
 \, België
X-APPLE-STRUCTURED-LOCATION;VALUE=URI;X-ADDRESS=Collegestraat 24\, Brugge\,
  8310\, België;X-APPLE-RADIUS=100;X-TITLE=OLVA - Onze-Lieve-Vrouwecollege
 :geo:0,0
END:VEVENT
BEGIN:VEVENT
UID:6@tdobrugge.com
DTSTART;TZID=Europe/Brussels:20250914T103000
DTEND;TZID=Europe/Brussels:20260614T163000
DTSTAMP:20250604T180537Z
URL:https://tdobrugge.com/events/schooljaar-2025-2026/
SUMMARY:SCHOOLJAAR 2025 - 2026
DESCRIPTION:\n 	Lesdagen: Elke zondag\, met uitzondering van de eerste zond
 ag van elke schoolvakantie\n 	Lesuren: Afhankelijk van het niveau van je z
 oon/dochter:\n\n\n 	\n\n 	\n10:00 – 13:00\n\n 	\n13:30 – 16:30\n\n\n\n
 \nWe starten het nieuwe schooljaar op zondag 14 september 2025. De lessen 
 vinden plaats op zondagen\, met uitzondering van de eerste zondag van elke
  schoolvakantie. Afhankelijk van het niveau van je zoon of dochter worden 
 de lessen gegeven van 10:00 tot 13:00 of van 13:30 tot 16:30.\nInschrijven
 :Voor meer informatie en inschrijvingen\,  neem contact met ons op via ma
 il info@tdobrugge.com of telefonisch +32 497734707.
LOCATION:OLVA – Onze-Lieve-Vrouwecollege\, Collegestraat 24\, Assebroek\,
  Belgium\, 8310\, West Vlaanderen\, België
X-APPLE-STRUCTURED-LOCATION;VALUE=URI;X-ADDRESS=Collegestraat 24\, Assebroe
 k\, Belgium\, 8310\, West Vlaanderen\, België;X-APPLE-RADIUS=100;X-TITLE=
 OLVA – Onze-Lieve-Vrouwecollege:geo:0,0
END:VEVENT
BEGIN:VTIMEZONE
TZID:Europe/Brussels
X-LIC-LOCATION:Europe/Brussels
BEGIN:STANDARD
DTSTART:20231029T020000
TZOFFSETFROM:+0200
TZOFFSETTO:+0100
TZNAME:CET
END:STANDARD
BEGIN:DAYLIGHT
DTSTART:20240331T030000
TZOFFSETFROM:+0100
TZOFFSETTO:+0200
TZNAME:CEST
END:DAYLIGHT
BEGIN:STANDARD
DTSTART:20241027T020000
TZOFFSETFROM:+0200
TZOFFSETTO:+0100
TZNAME:CET
END:STANDARD
BEGIN:DAYLIGHT
DTSTART:20250330T030000
TZOFFSETFROM:+0100
TZOFFSETTO:+0200
TZNAME:CEST
END:DAYLIGHT
BEGIN:STANDARD
DTSTART:20251026T020000
TZOFFSETFROM:+0200
TZOFFSETTO:+0100
TZNAME:CET
END:STANDARD
BEGIN:DAYLIGHT
DTSTART:20260329T030000
TZOFFSETFROM:+0100
TZOFFSETTO:+0200
TZNAME:CEST
END:DAYLIGHT
END:VTIMEZONE
END:VCALENDAR